BEGIN:VCALENDAR
VERSION:2.0
PRODID:-//kiga-friesenstrasse.de - ECPv6.15.20//NONSGML v1.0//EN
CALSCALE:GREGORIAN
METHOD:PUBLISH
X-WR-CALNAME:kiga-friesenstrasse.de
X-ORIGINAL-URL:https://kiga-friesenstrasse.de
X-WR-CALDESC:Veranstaltungen für kiga-friesenstrasse.de
REFRESH-INTERVAL;VALUE=DURATION:PT1H
X-Robots-Tag:noindex
X-PUBLISHED-TTL:PT1H
BEGIN:VTIMEZONE
TZID:Europe/Berlin
BEGIN:DAYLIGHT
TZOFFSETFROM:+0100
TZOFFSETTO:+0200
TZNAME:CEST
DTSTART:20230326T010000
END:DAYLIGHT
BEGIN:STANDARD
TZOFFSETFROM:+0200
TZOFFSETTO:+0100
TZNAME:CET
DTSTART:20231029T010000
END:STANDARD
BEGIN:DAYLIGHT
TZOFFSETFROM:+0100
TZOFFSETTO:+0200
TZNAME:CEST
DTSTART:20240331T010000
END:DAYLIGHT
BEGIN:STANDARD
TZOFFSETFROM:+0200
TZOFFSETTO:+0100
TZNAME:CET
DTSTART:20241027T010000
END:STANDARD
BEGIN:DAYLIGHT
TZOFFSETFROM:+0100
TZOFFSETTO:+0200
TZNAME:CEST
DTSTART:20250330T010000
END:DAYLIGHT
BEGIN:STANDARD
TZOFFSETFROM:+0200
TZOFFSETTO:+0100
TZNAME:CET
DTSTART:20251026T010000
END:STANDARD
END:VTIMEZONE
BEGIN:VEVENT
DTSTART;VALUE=DATE:20240722
DTEND;VALUE=DATE:20240810
DTSTAMP:20260423T220655
CREATED:20230819T171510Z
LAST-MODIFIED:20230819T171510Z
UID:2507-1721606400-1723247999@kiga-friesenstrasse.de
SUMMARY:Betriebsferien
DESCRIPTION:
URL:https://kiga-friesenstrasse.de/event/betriebsferien-3/
CATEGORIES:Betriebsferien
END:VEVENT
BEGIN:VEVENT
DTSTART;TZID=Europe/Berlin:20240812T070000
DTEND;TZID=Europe/Berlin:20240812T163000
DTSTAMP:20260423T220655
CREATED:20240811T133944Z
LAST-MODIFIED:20240811T133944Z
UID:2582-1723446000-1723480200@kiga-friesenstrasse.de
SUMMARY:1. Kindergartentag
DESCRIPTION:
URL:https://kiga-friesenstrasse.de/event/1-kindergartentag/
END:VEVENT
END:VCALENDAR