BEGIN:VCALENDAR
VERSION:2.0
PRODID:-//kiga-friesenstrasse.de - ECPv6.15.20//NONSGML v1.0//EN
CALSCALE:GREGORIAN
METHOD:PUBLISH
X-ORIGINAL-URL:https://kiga-friesenstrasse.de
X-WR-CALDESC:Veranstaltungen für kiga-friesenstrasse.de
REFRESH-INTERVAL;VALUE=DURATION:PT1H
X-Robots-Tag:noindex
X-PUBLISHED-TTL:PT1H
BEGIN:VTIMEZONE
TZID:Europe/Berlin
BEGIN:DAYLIGHT
TZOFFSETFROM:+0100
TZOFFSETTO:+0200
TZNAME:CEST
DTSTART:20240331T010000
END:DAYLIGHT
BEGIN:STANDARD
TZOFFSETFROM:+0200
TZOFFSETTO:+0100
TZNAME:CET
DTSTART:20241027T010000
END:STANDARD
BEGIN:DAYLIGHT
TZOFFSETFROM:+0100
TZOFFSETTO:+0200
TZNAME:CEST
DTSTART:20250330T010000
END:DAYLIGHT
BEGIN:STANDARD
TZOFFSETFROM:+0200
TZOFFSETTO:+0100
TZNAME:CET
DTSTART:20251026T010000
END:STANDARD
BEGIN:DAYLIGHT
TZOFFSETFROM:+0100
TZOFFSETTO:+0200
TZNAME:CEST
DTSTART:20260329T010000
END:DAYLIGHT
BEGIN:STANDARD
TZOFFSETFROM:+0200
TZOFFSETTO:+0100
TZNAME:CET
DTSTART:20261025T010000
END:STANDARD
END:VTIMEZONE
BEGIN:VEVENT
DTSTART;VALUE=DATE:20250422
DTEND;VALUE=DATE:20250423
DTSTAMP:20260421T142622
CREATED:20250416T080850Z
LAST-MODIFIED:20250416T080850Z
UID:2629-1745280000-1745366399@kiga-friesenstrasse.de
SUMMARY:Elternsprechtag
DESCRIPTION:
URL:https://kiga-friesenstrasse.de/event/elternsprechtag/
LOCATION:Kindergarte Friesenstraße e.V\, Friesenstraße 10\, Lüdenscheid\, NRW\, 58509\, Deutschland
END:VEVENT
BEGIN:VEVENT
DTSTART;TZID=Europe/Berlin:20250422T080000
DTEND;TZID=Europe/Berlin:20250425T170000
DTSTAMP:20260421T142622
CREATED:20240811T134513Z
LAST-MODIFIED:20240811T134513Z
UID:2588-1745308800-1745600400@kiga-friesenstrasse.de
SUMMARY:Konzeptionstage (Kiga ist geschlossen)
DESCRIPTION:
URL:https://kiga-friesenstrasse.de/event/konzeptionstage-kiga-ist-geschlossen/
END:VEVENT
END:VCALENDAR